BEGIN:VCALENDAR
VERSION:2.0
PRODID:-//#HaltonHour - ECPv6.15.20//NONSGML v1.0//EN
CALSCALE:GREGORIAN
METHOD:PUBLISH
X-ORIGINAL-URL:https://haltonhour.co.uk
X-WR-CALDESC:Events for #HaltonHour
REFRESH-INTERVAL;VALUE=DURATION:PT1H
X-Robots-Tag:noindex
X-PUBLISHED-TTL:PT1H
BEGIN:VTIMEZONE
TZID:Europe/London
BEGIN:DAYLIGHT
TZOFFSETFROM:+0000
TZOFFSETTO:+0100
TZNAME:BST
DTSTART:20240331T010000
END:DAYLIGHT
BEGIN:STANDARD
TZOFFSETFROM:+0100
TZOFFSETTO:+0000
TZNAME:GMT
DTSTART:20241027T010000
END:STANDARD
BEGIN:DAYLIGHT
TZOFFSETFROM:+0000
TZOFFSETTO:+0100
TZNAME:BST
DTSTART:20250330T010000
END:DAYLIGHT
BEGIN:STANDARD
TZOFFSETFROM:+0100
TZOFFSETTO:+0000
TZNAME:GMT
DTSTART:20251026T010000
END:STANDARD
BEGIN:DAYLIGHT
TZOFFSETFROM:+0000
TZOFFSETTO:+0100
TZNAME:BST
DTSTART:20260329T010000
END:DAYLIGHT
BEGIN:STANDARD
TZOFFSETFROM:+0100
TZOFFSETTO:+0000
TZNAME:GMT
DTSTART:20261025T010000
END:STANDARD
END:VTIMEZONE
BEGIN:VEVENT
DTSTART;TZID=Europe/London:20250926T180000
DTEND;TZID=Europe/London:20250926T203000
DTSTAMP:20260420T124509
CREATED:20250918T194926Z
LAST-MODIFIED:20250918T194926Z
UID:10003986-1758909600-1758918600@haltonhour.co.uk
SUMMARY:Reclaim the Night - Widnes
DESCRIPTION:Violence against women and girls is an epidemic\, with one in five reported crimes targeting them. On 26th September\, we walk to reclaim the night and say enough is enough. \nMeet us at Victoria Park\, Widnes at the bandstand at 6pm where there will be information on local services from around Halton and Cheshire \nJoin us at 6:30pm for an empowering warm-up! We’ll do a group walking lap around Victoria Park and meet back at the bandstand for inspiring talks.
URL:https://haltonhour.co.uk/event/reclaim-the-night-widnes/
LOCATION:Victoria Park\, Birchfield Road\, Widnes\, Cheshire\, WA8 6PX\, United Kingdom
CATEGORIES:Social
ATTACH;FMTTYPE=image/png:https://haltonhour.co.uk/wp-content/uploads/2025/09/reclaim-the-night.png
ORGANIZER;CN="Fortuna Female Society FFS":MAILTO:team@fortunafemale.org
END:VEVENT
END:VCALENDAR