BEGIN:VCALENDAR
VERSION:2.0
PRODID:-//#HaltonHour - ECPv6.15.20//NONSGML v1.0//EN
CALSCALE:GREGORIAN
METHOD:PUBLISH
X-WR-CALNAME:#HaltonHour
X-ORIGINAL-URL:https://haltonhour.co.uk
X-WR-CALDESC:Events for #HaltonHour
REFRESH-INTERVAL;VALUE=DURATION:PT1H
X-Robots-Tag:noindex
X-PUBLISHED-TTL:PT1H
BEGIN:VTIMEZONE
TZID:Europe/London
BEGIN:DAYLIGHT
TZOFFSETFROM:+0000
TZOFFSETTO:+0100
TZNAME:BST
DTSTART:20240331T010000
END:DAYLIGHT
BEGIN:STANDARD
TZOFFSETFROM:+0100
TZOFFSETTO:+0000
TZNAME:GMT
DTSTART:20241027T010000
END:STANDARD
BEGIN:DAYLIGHT
TZOFFSETFROM:+0000
TZOFFSETTO:+0100
TZNAME:BST
DTSTART:20250330T010000
END:DAYLIGHT
BEGIN:STANDARD
TZOFFSETFROM:+0100
TZOFFSETTO:+0000
TZNAME:GMT
DTSTART:20251026T010000
END:STANDARD
BEGIN:DAYLIGHT
TZOFFSETFROM:+0000
TZOFFSETTO:+0100
TZNAME:BST
DTSTART:20260329T010000
END:DAYLIGHT
BEGIN:STANDARD
TZOFFSETFROM:+0100
TZOFFSETTO:+0000
TZNAME:GMT
DTSTART:20261025T010000
END:STANDARD
END:VTIMEZONE
BEGIN:VEVENT
DTSTART;TZID=Europe/London:20250614T140000
DTEND;TZID=Europe/London:20250614T230000
DTSTAMP:20260420T125108
CREATED:20250612T070414Z
LAST-MODIFIED:20250612T070414Z
UID:10003901-1749909600-1749942000@haltonhour.co.uk
SUMMARY:Fundraiser for Stick 'n' Step - Runcorn
DESCRIPTION:I am hosting a fundraising day on Saturday 14th June at the Queen of Hearts in Runcorn\, in aid of local charity Stick ‘n’ Step. The event takes place two weeks before I brave a skydive to help raise funds for this wonderful cause! 🪂😱 \nWe would love as many people as possible to attend what will hopefully be a great day and a huge success. Hopefully the 🌞 is shining too! \nWe have plenty of things happening on the day to keep you (and your little ones!) entertained from 2pm until late: \nLive music 🎤 (The Mersey Flows\, Grace\, Ghost Note and Cliff/Young) \nRaffle 🎟 \nBingo 🎱 \nSweet Stall 🍭 \nDJ 🎶 \nFace Painting 🎨 \nAnd much more…. \nhttps://www.sticknstep.org/ \nhttps://www.thequeenofheartspubruncorn.co.uk/
URL:https://haltonhour.co.uk/event/fundraiser-for-stick-n-step-runcorn/
LOCATION:Queen of Hearts\, Jack Search Way\, Murdishaw\,\, Runcorn\, Cheshire\, WA7 6SA\, United Kingdom
CATEGORIES:Charity Fundraiser
ATTACH;FMTTYPE=image/jpeg:https://haltonhour.co.uk/wp-content/uploads/2025/06/Screenshot_20250605_211429_Canva.jpg
END:VEVENT
END:VCALENDAR