BEGIN:VCALENDAR
VERSION:2.0
PRODID:-//#HaltonHour - ECPv6.15.20//NONSGML v1.0//EN
CALSCALE:GREGORIAN
METHOD:PUBLISH
X-ORIGINAL-URL:https://haltonhour.co.uk
X-WR-CALDESC:Events for #HaltonHour
REFRESH-INTERVAL;VALUE=DURATION:PT1H
X-Robots-Tag:noindex
X-PUBLISHED-TTL:PT1H
BEGIN:VTIMEZONE
TZID:Europe/London
BEGIN:DAYLIGHT
TZOFFSETFROM:+0000
TZOFFSETTO:+0100
TZNAME:BST
DTSTART:20240331T010000
END:DAYLIGHT
BEGIN:STANDARD
TZOFFSETFROM:+0100
TZOFFSETTO:+0000
TZNAME:GMT
DTSTART:20241027T010000
END:STANDARD
BEGIN:DAYLIGHT
TZOFFSETFROM:+0000
TZOFFSETTO:+0100
TZNAME:BST
DTSTART:20250330T010000
END:DAYLIGHT
BEGIN:STANDARD
TZOFFSETFROM:+0100
TZOFFSETTO:+0000
TZNAME:GMT
DTSTART:20251026T010000
END:STANDARD
BEGIN:DAYLIGHT
TZOFFSETFROM:+0000
TZOFFSETTO:+0100
TZNAME:BST
DTSTART:20260329T010000
END:DAYLIGHT
BEGIN:STANDARD
TZOFFSETFROM:+0100
TZOFFSETTO:+0000
TZNAME:GMT
DTSTART:20261025T010000
END:STANDARD
END:VTIMEZONE
BEGIN:VEVENT
DTSTART;TZID=Europe/London:20250930T090000
DTEND;TZID=Europe/London:20250930T163000
DTSTAMP:20260421T032810
CREATED:20250807T194031Z
LAST-MODIFIED:20250807T194031Z
UID:10003967-1759222800-1759249800@haltonhour.co.uk
SUMMARY:The Pause. A restorative away day for managers - Runcorn
DESCRIPTION:Managers are always there for others — but who’s supporting them? \nWould you like to support the well-being of your managers\, or are you a manager who is stressed? \nIntroducing “The Pause – A restorative away day for managers” \nThis powerful in-person programme is designed specifically with you in mind. \n\nReconnect with your purpose\nBuild your confidence and resilience\nReflect\, recharge and re-balance your life\n\nThis course offers them the space to focus on THEIR wellbeing.\nWhat is included:- \n\nFull-day in-person programme\nThe ‘The Pause’ reflection booklet\n Admission to the Museum and walled gardens\nTea\, coffee and pastries on arrival\nLunch in the Olive Tree onsite cafe\nPractical wellbeing strategies you can use immediately\nTime and space to recharge – with support from peers who get it\n A renewed sense of purpose in work and life\nPause – Reconnect\, Reflect\, Restore.\n\nHeld in the beautiful Norton Priory in Cheshire with lunch provided by the delightful Olive Tree catering this day is sure to help managers to feel appreciated and valued. \nFor more information and to book a place please contact Norma via messenger or email info@ns-care.co.uk or call 07407512586.
URL:https://haltonhour.co.uk/event/the-pause-managers-day-runcorn/
LOCATION:Norton Priory Museum and Gardens\, Tudor Road\, Runcorn\, Cheshire\, WA7 1SX\, United Kingdom
CATEGORIES:Education,Health and Wellbeing
ATTACH;FMTTYPE=image/jpeg:https://haltonhour.co.uk/wp-content/uploads/2025/08/coffee.jpg
ORGANIZER;CN="NS Care Consultancy Ltd":MAILTO:info@ns-care.co.uk
END:VEVENT
BEGIN:VEVENT
DTSTART;VALUE=DATE:20250624
DTEND;VALUE=DATE:20250625
DTSTAMP:20260421T032810
CREATED:20250530T191221Z
LAST-MODIFIED:20250530T191221Z
UID:10003804-1750723200-1750809599@haltonhour.co.uk
SUMMARY:Your Time\, Care Home Managers Day - Runcorn
DESCRIPTION:Taking the stress out of care home management by supporting the manager first. \nOne of its kind\, this day has been specifically designed for care home managers by an ex-care home manager of 22 years and now an Holistic coach and NLP Master Practitioner\, course creator and author of my own memoir in healthcare. \nWith the added bonus of 6 CPD points and the potential to meet the CQC quality statements for supporting staff and their wellbeing. \nA day to boost resilience\, confidence\, and self-awareness—giving managers the chance to pause\, power up\, and come back stronger than ever! \nHeld in the beautiful Norton Priory in Cheshire with lunch provided by the delightful Olive Tree catering this day is sure to help managers to feel appreciated and valued. \nFor more information and to book a place please contact Norma via messenger or email info@ns-care.co.uk or call 07407512586.
URL:https://haltonhour.co.uk/event/your-time-care-home-managers-day-runcorn/
LOCATION:Norton Priory Museum and Gardens\, Tudor Road\, Runcorn\, Cheshire\, WA7 1SX\, United Kingdom
CATEGORIES:Education,Health and Wellbeing
ATTACH;FMTTYPE=image/jpeg:https://haltonhour.co.uk/wp-content/uploads/2025/05/Your-Time-Care-Home-Managers-CPD-Day-Norton-Priory-Runcorn.jpg
ORGANIZER;CN="NS Care Consultancy Ltd":MAILTO:info@ns-care.co.uk
END:VEVENT
END:VCALENDAR