BEGIN:VCALENDAR
VERSION:2.0
PRODID:-//#HaltonHour - ECPv6.15.20//NONSGML v1.0//EN
CALSCALE:GREGORIAN
METHOD:PUBLISH
X-WR-CALNAME:#HaltonHour
X-ORIGINAL-URL:https://haltonhour.co.uk
X-WR-CALDESC:Events for #HaltonHour
REFRESH-INTERVAL;VALUE=DURATION:PT1H
X-Robots-Tag:noindex
X-PUBLISHED-TTL:PT1H
BEGIN:VTIMEZONE
TZID:Europe/London
BEGIN:DAYLIGHT
TZOFFSETFROM:+0000
TZOFFSETTO:+0100
TZNAME:BST
DTSTART:20240331T010000
END:DAYLIGHT
BEGIN:STANDARD
TZOFFSETFROM:+0100
TZOFFSETTO:+0000
TZNAME:GMT
DTSTART:20241027T010000
END:STANDARD
BEGIN:DAYLIGHT
TZOFFSETFROM:+0000
TZOFFSETTO:+0100
TZNAME:BST
DTSTART:20250330T010000
END:DAYLIGHT
BEGIN:STANDARD
TZOFFSETFROM:+0100
TZOFFSETTO:+0000
TZNAME:GMT
DTSTART:20251026T010000
END:STANDARD
BEGIN:DAYLIGHT
TZOFFSETFROM:+0000
TZOFFSETTO:+0100
TZNAME:BST
DTSTART:20260329T010000
END:DAYLIGHT
BEGIN:STANDARD
TZOFFSETFROM:+0100
TZOFFSETTO:+0000
TZNAME:GMT
DTSTART:20261025T010000
END:STANDARD
END:VTIMEZONE
BEGIN:VEVENT
DTSTART;TZID=Europe/London:20250614T100000
DTEND;TZID=Europe/London:20250614T120000
DTSTAMP:20260420T170953
CREATED:20250607T192838Z
LAST-MODIFIED:20250607T192931Z
UID:10003805-1749895200-1749902400@haltonhour.co.uk
SUMMARY:Silver Cuff Workshop - Frodsham
DESCRIPTION:This workshop is suitable for beginners\, making a lovely sterling silver cuff and explore my collection of stamps and add individual texture to make it uniquely yours. \nDuring this session you will get to practise some of the traditional silversmith techniques needed to create your cuff. This course will give you a taste of working in a metal workshop\, using traditional tools and techniques. A brilliant taster for anyone who is interested in the mechanics of metal work. \nDuring this course you will practise the following: \n– Measuring and sizing your cuff.\n– Using a jewellers saw to cut your silver to measure.\n– Shaping the cuff.\n– Adding texture and patterns using a variety of techniques and tools.\n– Finishing and polishing. \nAll materials are included int he price\, and you will take home a lovely unique\, handmade by you silver cuff.
URL:https://haltonhour.co.uk/event/silver-cuff-workshop/
LOCATION:Lady Heyes\, Kingsley Road\, Frodsham\, Cheshire\, WA6 6SU\, United Kingdom
CATEGORIES:Arts and Crafts
ATTACH;FMTTYPE=image/jpeg:https://haltonhour.co.uk/wp-content/uploads/2025/06/Manni-and-cuffs-1-scaled.jpg
ORGANIZER;CN="Halton Village Silver":MAILTO:Clare@haltonvillagesilver.com
END:VEVENT
END:VCALENDAR