BEGIN:VCALENDAR
VERSION:2.0
PRODID:-//#HaltonHour - ECPv6.15.20//NONSGML v1.0//EN
CALSCALE:GREGORIAN
METHOD:PUBLISH
X-ORIGINAL-URL:https://haltonhour.co.uk
X-WR-CALDESC:Events for #HaltonHour
REFRESH-INTERVAL;VALUE=DURATION:PT1H
X-Robots-Tag:noindex
X-PUBLISHED-TTL:PT1H
BEGIN:VTIMEZONE
TZID:Europe/London
BEGIN:DAYLIGHT
TZOFFSETFROM:+0000
TZOFFSETTO:+0100
TZNAME:BST
DTSTART:20240331T010000
END:DAYLIGHT
BEGIN:STANDARD
TZOFFSETFROM:+0100
TZOFFSETTO:+0000
TZNAME:GMT
DTSTART:20241027T010000
END:STANDARD
BEGIN:DAYLIGHT
TZOFFSETFROM:+0000
TZOFFSETTO:+0100
TZNAME:BST
DTSTART:20250330T010000
END:DAYLIGHT
BEGIN:STANDARD
TZOFFSETFROM:+0100
TZOFFSETTO:+0000
TZNAME:GMT
DTSTART:20251026T010000
END:STANDARD
BEGIN:DAYLIGHT
TZOFFSETFROM:+0000
TZOFFSETTO:+0100
TZNAME:BST
DTSTART:20260329T010000
END:DAYLIGHT
BEGIN:STANDARD
TZOFFSETFROM:+0100
TZOFFSETTO:+0000
TZNAME:GMT
DTSTART:20261025T010000
END:STANDARD
END:VTIMEZONE
BEGIN:VEVENT
DTSTART;TZID=Europe/London:20250509T193000
DTEND;TZID=Europe/London:20250509T213000
DTSTAMP:20260420T082357
CREATED:20240905T193320Z
LAST-MODIFIED:20241230T190427Z
UID:10002596-1746819000-1746826200@haltonhour.co.uk
SUMMARY:Women's Supper Club - Widnes
DESCRIPTION:Join Fortuna Female Society for a delicious soup supper and a hearty helping of great female company.
URL:https://haltonhour.co.uk/event/womens-supper-club-widnes/2025-05-09/
LOCATION:St Pauls Church Hall\, Victoria Square\, Widnes\, Cheshire\, WA8 7QU\, United Kingdom
CATEGORIES:Social
ATTACH;FMTTYPE=image/jpeg:https://haltonhour.co.uk/wp-content/uploads/2024/09/FFS-supper-club-St-Pauls-Village-Hall-Widnes.jpg
ORGANIZER;CN="Fortuna Female Society FFS":MAILTO:team@fortunafemale.org
END:VEVENT
BEGIN:VEVENT
DTSTART;TZID=Europe/London:20250507T190000
DTEND;TZID=Europe/London:20250507T223000
DTSTAMP:20260420T082357
CREATED:20250419T081656Z
LAST-MODIFIED:20250419T081656Z
UID:10003796-1746644400-1746657000@haltonhour.co.uk
SUMMARY:Widnes VIPs Quiz Night
DESCRIPTION:On Wednesday 7th May Widnes VIPs will be holding there Annual Quiz at DCBL Stadium Widnes Karalius Suite 7pm start. \nWidnes Coach Allan Coleman is the Quiz Master. It helps raise funds for Widnes VIPs who through the membership scheme raise money for Widnes Vikings to Strengthen and retention of players. \nTickets are on sale at £5 each for more information please email admin@widvesvips.co.uk
URL:https://haltonhour.co.uk/event/widnes-vips-quiz-night/
LOCATION:DCBL Stadium\, Lowerhouse Lane\, Widnes\, Cheshire\, WA8 7DZ\, United Kingdom
CATEGORIES:Charity Fundraiser,Entertainment
ATTACH;FMTTYPE=image/jpeg:https://haltonhour.co.uk/wp-content/uploads/2025/04/Messenger_creation_AD9B8709-37B3-4536-9AF4-605AD502C9CC.jpeg
ORGANIZER;CN="Widnes VIPS":MAILTO:admin@widvesvips.co.uk
END:VEVENT
BEGIN:VEVENT
DTSTART;TZID=Europe/London:20250430T200000
DTEND;TZID=Europe/London:20250430T204500
DTSTAMP:20260420T082357
CREATED:20241214T081517Z
LAST-MODIFIED:20241227T111754Z
UID:10002871-1746043200-1746045900@haltonhour.co.uk
SUMMARY:Wednesday Wind Down
DESCRIPTION:Join me for a relaxing and grounding session designed to calm and soothe your nervous system.  Always important but especially at this time of year.\n\nPlease register for the event and you will receive the Zoom link.\n\nThese sessions incur a small charge – you can pay what you feel. Suggested donation £3-5.\n\n\n\n\n\n\n\n\n\nRegistration link:\nhttps://us02web.zoom.us/…/tZctd-muqz0vGNFz5na…\n\n\n\n\n\n\n\n\n\n\n\n\n\n\n\n\n\n\n\n\n\n\n\n\n\n\n\n\n\nThank you and see you soon xx
URL:https://haltonhour.co.uk/event/wednesday-wind-down/2025-04-30/
LOCATION:online
CATEGORIES:Health and Wellbeing
ATTACH;FMTTYPE=image/png:https://haltonhour.co.uk/wp-content/uploads/2024/12/Wednesday-Wind-down-2023-Facebook-Event-Cover.png
ORGANIZER;CN="The Wellbeing Lady":MAILTO:angelita@wellbeinglady.com
END:VEVENT
BEGIN:VEVENT
DTSTART;VALUE=DATE:20250426
DTEND;VALUE=DATE:20250427
DTSTAMP:20260420T082357
CREATED:20250119T205949Z
LAST-MODIFIED:20250119T205949Z
UID:10002895-1745625600-1745711999@haltonhour.co.uk
SUMMARY:Animal Teach Zoology Kids Club – Runcorn
DESCRIPTION:Animal Teach is thrilled to announce the return of the monthly Zoology Kids Club for 2025!\nWith exciting new features and themes\, it’s going to be bigger and better than ever. Don’t miss out on this year of zoological adventures! \nWhat to Expect\nEvery month\, Zoologists will enjoy hands-on learning\, practical activities\, skill development\, and up-close encounters with fascinating species like snakes\, lizards\, tortoises\, frogs\, and invertebrates! Each workshop promises unforgettable experiences and opportunities to grow. \nNEW Block-Booking Discount Tickets\nNow available: 1-date tickets for just £13.50 with pay-as-you-go flexibility!\nOR\nSave more when you book 2\, 3\, 4\, 5\, or 6-date tickets. The more dates you book at once\, the bigger the savings. Choose your membership here https://buytickets.at/animalteachltd/store \nMini Zoologist (Ages 4-7)\n10.15am-11.15am\nYoung Zoologist (Ages 8-11)\n11.45am-12.45pm\nJunior Zoologist (Ages 12-15)\n1.15pm-2.15pm \nEach Month Brings a New Theme!\n2025 Themes TBC\nEvery session offers something fresh and exciting. Mark your calendars for these Saturdays: \n\nSaturday 25th January\nSaturday 22nd February\nSaturday 29th March\nSaturday 26th April\nSaturday 24th May\nSaturday 21st June\n\nAll Zoologists Receive \n\nAnimal Teach Kids Club Member Card – For every 4 clubs\, receive a FREE gift!\nAccess to Guest Speakers at certain events\nHands-on\, educational learning\nOpportunities to see and hold animals\n\nAdditional Information:  \n\nWheelchair accessible\nAccess to accessible facilities\, including toilets and parking\nOne parent or guardian must remain onsite with their child/children\nLimited ticket availability—book early to secure your spot!\nRefunds or date transfers are handled on a case-by-case basis only\nTerms & Conditions and Risk Assessment apply\n\nFor any questions\, please email animalteach@outlook.com. \nThank you\,\nNaomi \nHBC Animal Activity Licence Number: F42PNH19CA/1 \n\n\nLocation\nHazlehurst Studios\, 71 High Street\, WA7 1AH
URL:https://haltonhour.co.uk/event/animal-teach-zoology-kids-club-runcorn-7/
LOCATION:Hazlehurst Studios\, Runcorn Old Town\, 73a High Street\, RUNCORN\, WA7 1AH
CATEGORIES:Animals and Pets,Education
ATTACH;FMTTYPE=image/png:https://haltonhour.co.uk/wp-content/uploads/2025/01/Color-logo-with-background-3.png
ORGANIZER;CN="Animal Teach":MAILTO:animalteach@outlook.com
END:VEVENT
BEGIN:VEVENT
DTSTART;TZID=Europe/London:20250425T093000
DTEND;TZID=Europe/London:20250425T120000
DTSTAMP:20260420T082357
CREATED:20250329T140233Z
LAST-MODIFIED:20250329T140233Z
UID:10003682-1745573400-1745582400@haltonhour.co.uk
SUMMARY:Free ‘Baby Shower’ NHS Information Event - Runcorn
DESCRIPTION:Halton Family Hubs and Halton NHS 0-19  Service monthly events for anyone expecting a baby or have a baby under 6months. \nhttp://www.haltonfamilyhubs.co.uk \nMeet health professionals to explore pregnancy and labour\, infant feeding\, emotional wellbeing\, health and development and becoming a parent. \nA showcase of what the family hubs offer you and your family. \nPractical demonstrations of safe sleep\, bathing and changing nappies. \nOpportunity for a friendly chat and a cuppa with the Family Hub team and to meet other new parents too!
URL:https://haltonhour.co.uk/event/free-baby-shower-nhs-information-event-runcorn/
LOCATION:Brookvale Family Hub\, Woodhatch Road\, Runcorn\, Cheshire\, WA7 6BJ\, United Kingdom
CATEGORIES:Fayres and Markets,Health and Wellbeing
ATTACH;FMTTYPE=image/jpeg:https://haltonhour.co.uk/wp-content/uploads/2025/03/IMG_5955.jpeg
END:VEVENT
END:VCALENDAR