BEGIN:VCALENDAR
VERSION:2.0
PRODID:-//#HaltonHour - ECPv6.15.20//NONSGML v1.0//EN
CALSCALE:GREGORIAN
METHOD:PUBLISH
X-ORIGINAL-URL:https://haltonhour.co.uk
X-WR-CALDESC:Events for #HaltonHour
REFRESH-INTERVAL;VALUE=DURATION:PT1H
X-Robots-Tag:noindex
X-PUBLISHED-TTL:PT1H
BEGIN:VTIMEZONE
TZID:Europe/London
BEGIN:DAYLIGHT
TZOFFSETFROM:+0000
TZOFFSETTO:+0100
TZNAME:BST
DTSTART:20240331T010000
END:DAYLIGHT
BEGIN:STANDARD
TZOFFSETFROM:+0100
TZOFFSETTO:+0000
TZNAME:GMT
DTSTART:20241027T010000
END:STANDARD
BEGIN:DAYLIGHT
TZOFFSETFROM:+0000
TZOFFSETTO:+0100
TZNAME:BST
DTSTART:20250330T010000
END:DAYLIGHT
BEGIN:STANDARD
TZOFFSETFROM:+0100
TZOFFSETTO:+0000
TZNAME:GMT
DTSTART:20251026T010000
END:STANDARD
BEGIN:DAYLIGHT
TZOFFSETFROM:+0000
TZOFFSETTO:+0100
TZNAME:BST
DTSTART:20260329T010000
END:DAYLIGHT
BEGIN:STANDARD
TZOFFSETFROM:+0100
TZOFFSETTO:+0000
TZNAME:GMT
DTSTART:20261025T010000
END:STANDARD
END:VTIMEZONE
BEGIN:VEVENT
DTSTART;VALUE=DATE:20250624
DTEND;VALUE=DATE:20250625
DTSTAMP:20260420T042516
CREATED:20250530T191221Z
LAST-MODIFIED:20250530T191221Z
UID:10003804-1750723200-1750809599@haltonhour.co.uk
SUMMARY:Your Time\, Care Home Managers Day - Runcorn
DESCRIPTION:Taking the stress out of care home management by supporting the manager first. \nOne of its kind\, this day has been specifically designed for care home managers by an ex-care home manager of 22 years and now an Holistic coach and NLP Master Practitioner\, course creator and author of my own memoir in healthcare. \nWith the added bonus of 6 CPD points and the potential to meet the CQC quality statements for supporting staff and their wellbeing. \nA day to boost resilience\, confidence\, and self-awareness—giving managers the chance to pause\, power up\, and come back stronger than ever! \nHeld in the beautiful Norton Priory in Cheshire with lunch provided by the delightful Olive Tree catering this day is sure to help managers to feel appreciated and valued. \nFor more information and to book a place please contact Norma via messenger or email info@ns-care.co.uk or call 07407512586.
URL:https://haltonhour.co.uk/event/your-time-care-home-managers-day-runcorn/
LOCATION:Norton Priory Museum and Gardens\, Tudor Road\, Runcorn\, Cheshire\, WA7 1SX\, United Kingdom
CATEGORIES:Education,Health and Wellbeing
ATTACH;FMTTYPE=image/jpeg:https://haltonhour.co.uk/wp-content/uploads/2025/05/Your-Time-Care-Home-Managers-CPD-Day-Norton-Priory-Runcorn.jpg
ORGANIZER;CN="NS Care Consultancy Ltd":MAILTO:info@ns-care.co.uk
END:VEVENT
BEGIN:VEVENT
DTSTART;TZID=Europe/London:20250620T093000
DTEND;TZID=Europe/London:20250620T120000
DTSTAMP:20260420T042516
CREATED:20250410T194628Z
LAST-MODIFIED:20250410T194628Z
UID:10003684-1750411800-1750420800@haltonhour.co.uk
SUMMARY:Halton ‘Baby Shower’ NHS information event - Runcorn
DESCRIPTION:Halton Family Hub ‘Baby Shower’ Information events are FREE and held monthly across Runcorn and Widnes! \nClick on this link to register for your place at your baby shower event: \nhttps://forms.office.com/r/8E0VqvEKAD \nwww.haltonfamilyhubs.co.uk #Runcorn #widnes! #haltonhour
URL:https://haltonhour.co.uk/event/halton-baby-shower-nhs-information-event-runcorn/
LOCATION:Brookvale Family Hub\, Woodhatch Road\, Runcorn\, Cheshire\, WA7 6BJ\, United Kingdom
CATEGORIES:Fayres and Markets,Health and Wellbeing
ATTACH;FMTTYPE=image/jpeg:https://haltonhour.co.uk/wp-content/uploads/2025/04/IMG_5955-1.jpeg
END:VEVENT
BEGIN:VEVENT
DTSTART;TZID=Europe/London:20250616T190000
DTEND;TZID=Europe/London:20250616T210000
DTSTAMP:20260420T042516
CREATED:20250612T065502Z
LAST-MODIFIED:20250612T065502Z
UID:10003902-1750100400-1750107600@haltonhour.co.uk
SUMMARY:Pamper night - Runcorn
DESCRIPTION:Join us for a night of Tropic\, Fragrance\, Jewellery\, Gifts\, Wax melts\, Candles\, Nutrition\, Free Mini Treatments including Facials\, Hand Massage or Head Massage and Tarot – there is a £10 charge. These need to be pre-booked with Moss Magick Retreat direct \nThe Prospect Inn\, 70 Weston Road\, Runcorn WA7 4LD
URL:https://haltonhour.co.uk/event/pamper-night-runcorn/
LOCATION:The Prospect Inn\, 70 Weston Road\, Runcorn\, WA7 4LD
CATEGORIES:Health and Wellbeing,Social
END:VEVENT
BEGIN:VEVENT
DTSTART;TZID=Europe/London:20250614T140000
DTEND;TZID=Europe/London:20250614T230000
DTSTAMP:20260420T042516
CREATED:20250612T070414Z
LAST-MODIFIED:20250612T070414Z
UID:10003901-1749909600-1749942000@haltonhour.co.uk
SUMMARY:Fundraiser for Stick 'n' Step - Runcorn
DESCRIPTION:I am hosting a fundraising day on Saturday 14th June at the Queen of Hearts in Runcorn\, in aid of local charity Stick ‘n’ Step. The event takes place two weeks before I brave a skydive to help raise funds for this wonderful cause! 🪂😱 \nWe would love as many people as possible to attend what will hopefully be a great day and a huge success. Hopefully the 🌞 is shining too! \nWe have plenty of things happening on the day to keep you (and your little ones!) entertained from 2pm until late: \nLive music 🎤 (The Mersey Flows\, Grace\, Ghost Note and Cliff/Young) \nRaffle 🎟 \nBingo 🎱 \nSweet Stall 🍭 \nDJ 🎶 \nFace Painting 🎨 \nAnd much more…. \nhttps://www.sticknstep.org/ \nhttps://www.thequeenofheartspubruncorn.co.uk/
URL:https://haltonhour.co.uk/event/fundraiser-for-stick-n-step-runcorn/
LOCATION:Queen of Hearts\, Jack Search Way\, Murdishaw\,\, Runcorn\, Cheshire\, WA7 6SA\, United Kingdom
CATEGORIES:Charity Fundraiser
ATTACH;FMTTYPE=image/jpeg:https://haltonhour.co.uk/wp-content/uploads/2025/06/Screenshot_20250605_211429_Canva.jpg
END:VEVENT
BEGIN:VEVENT
DTSTART;TZID=Europe/London:20250614T100000
DTEND;TZID=Europe/London:20250614T120000
DTSTAMP:20260420T042516
CREATED:20250607T192838Z
LAST-MODIFIED:20250607T192931Z
UID:10003805-1749895200-1749902400@haltonhour.co.uk
SUMMARY:Silver Cuff Workshop - Frodsham
DESCRIPTION:This workshop is suitable for beginners\, making a lovely sterling silver cuff and explore my collection of stamps and add individual texture to make it uniquely yours. \nDuring this session you will get to practise some of the traditional silversmith techniques needed to create your cuff. This course will give you a taste of working in a metal workshop\, using traditional tools and techniques. A brilliant taster for anyone who is interested in the mechanics of metal work. \nDuring this course you will practise the following: \n– Measuring and sizing your cuff.\n– Using a jewellers saw to cut your silver to measure.\n– Shaping the cuff.\n– Adding texture and patterns using a variety of techniques and tools.\n– Finishing and polishing. \nAll materials are included int he price\, and you will take home a lovely unique\, handmade by you silver cuff.
URL:https://haltonhour.co.uk/event/silver-cuff-workshop/
LOCATION:Lady Heyes\, Kingsley Road\, Frodsham\, Cheshire\, WA6 6SU\, United Kingdom
CATEGORIES:Arts and Crafts
ATTACH;FMTTYPE=image/jpeg:https://haltonhour.co.uk/wp-content/uploads/2025/06/Manni-and-cuffs-1-scaled.jpg
ORGANIZER;CN="Halton Village Silver":MAILTO:Clare@haltonvillagesilver.com
END:VEVENT
BEGIN:VEVENT
DTSTART;TZID=Europe/London:20250609T110000
DTEND;TZID=Europe/London:20250609T130000
DTSTAMP:20260420T042516
CREATED:20241230T183901Z
LAST-MODIFIED:20241230T184847Z
UID:10002877-1749466800-1749474000@haltonhour.co.uk
SUMMARY:Woman:Kind Cafe - Widnes
DESCRIPTION:WOMAN:KIND is a free\, peer-led group offering domestic abuse support for women. It’s a safe space to connect with others\, share experiences\, and access local resources. Take time out to focus on yourself with free self-care tools\, tea\, and coffee.
URL:https://haltonhour.co.uk/event/womankind-cafe-widnes/2025-06-09/
LOCATION:Widnes Library\, Victoria Square\, Widnes\, Cheshire\, WA8 7QT\, United Kingdom
CATEGORIES:Social
ATTACH;FMTTYPE=image/jpeg:https://haltonhour.co.uk/wp-content/uploads/2024/12/woman-kind-cafe-flier.jpg
ORGANIZER;CN="Fortuna Female Society FFS":MAILTO:team@fortunafemale.org
END:VEVENT
BEGIN:VEVENT
DTSTART;TZID=Europe/London:20250606T193000
DTEND;TZID=Europe/London:20250606T213000
DTSTAMP:20260420T042516
CREATED:20241230T185103Z
LAST-MODIFIED:20241230T185104Z
UID:10002556-1749238200-1749245400@haltonhour.co.uk
SUMMARY:FFS Body Well Sessions - Widnes
DESCRIPTION:Unleash your creative side at the monthly Body Well sessions with local artist Georgina – no prior experience needed! \nOpen to all ladies aged 18 and over\, these sessions are a fantastic way to unwind\, meet new people\, and enjoy a bit of ‘me time.’ All art supplies are provided\, along with refreshments to keep the creative energy flowing. \nSupported by the Cancer Alliance\, Body Well sessions suggest a donation of £5\, though participation is encouraged regardless of contribution.
URL:https://haltonhour.co.uk/event/ffs-body-well-sessions-widnes-2/2025-06-06/
LOCATION:The Studio\, Lacey Street\, Widnes\, Cheshire\, WA8 7SQ\, United Kingdom
CATEGORIES:Arts and Crafts,Social
ATTACH;FMTTYPE=image/jpeg:https://haltonhour.co.uk/wp-content/uploads/2024/08/Art-group.jpg
ORGANIZER;CN="Fortuna Female Society FFS":MAILTO:team@fortunafemale.org
END:VEVENT
BEGIN:VEVENT
DTSTART;TZID=Europe/London:20250606T190000
DTEND;TZID=Europe/London:20250606T220000
DTSTAMP:20260420T042516
CREATED:20250427T084746Z
LAST-MODIFIED:20250427T085109Z
UID:10003797-1749236400-1749247200@haltonhour.co.uk
SUMMARY:Bloom Family Quiz - Runcorn
DESCRIPTION:Looking for some fantastic FREE family fun in Runcorn? Look no further! BLOOM is hosting a Family Quiz at the Halton Royal British Legion on Castle Road.on Friday 6th June. \nGather your team (max of 6 players per team) and get ready for engaging and interactive quiz rounds that everyone\, from the youngest to the oldest\, can enjoy! 👨‍👩‍👧‍👦 \nDon’t forget\, there will also be a raffle with some great prizes to be won! \nThe bar will be open for you to purchase refreshments. \nImportant: Teams must pre-register to secure their spot. You can do this by: \n* Scanning the QR code on our poster \n* Following the link REGISTER HERE https://forms.gle/A78qLvCQZsYYss5E9 \n* Sending us a direct message! \nDon’t miss out on this FREE and fun family event! We can’t wait to see you there! \n#FamilyQuizNight #RuncornEvents #FreeFamilyFun #BLOOMQuiz #HaltonRBL #QuizForEveryone #InteractiveQuiz #RafflePrizes #CommunityEvent #SupportLocal
URL:https://haltonhour.co.uk/event/bloom-family-quiz-runcorn/
LOCATION:halton royal British legion\, Castle road\, Runcorn\, WA7 4YW\, United Kingdom
CATEGORIES:Entertainment
ATTACH;FMTTYPE=image/png:https://haltonhour.co.uk/wp-content/uploads/2025/04/Screenshot_20250417-153510.png
ORGANIZER;CN="bloom cic":MAILTO:bloomeventsse@gmail.com
END:VEVENT
BEGIN:VEVENT
DTSTART;TZID=Europe/London:20250526T120000
DTEND;TZID=Europe/London:20250526T160000
DTSTAMP:20260420T042516
CREATED:20250327T195205Z
LAST-MODIFIED:20250327T195205Z
UID:10003681-1748260800-1748275200@haltonhour.co.uk
SUMMARY:The Bank Holiday Rescue Fundraiser
DESCRIPTION:Learn about animal rescues and meet some of the rescued residents. We will also have a Dog Show\, Pony Rides\, Various Craft Stalls\, Food & Drinks\, Sweet Treats\, Tombola\, Hook a Duck\, Mr Shuey’s Ice Cream Van.
URL:https://haltonhour.co.uk/event/the-bank-holiday-rescue-fundraiser/
LOCATION:Horse Sense Wirral\, Lodge Farm\, Neston Rd\, Thornton Hough\, Wirral\, CH63 1JF\, United Kingdom
CATEGORIES:Animals and Pets,Charity Fundraiser
ATTACH;FMTTYPE=image/jpeg:https://haltonhour.co.uk/wp-content/uploads/2025/03/May-Day-Poster.jpg
END:VEVENT
BEGIN:VEVENT
DTSTART;VALUE=DATE:20250524
DTEND;VALUE=DATE:20250525
DTSTAMP:20260420T042516
CREATED:20250119T210151Z
LAST-MODIFIED:20250119T210151Z
UID:10002896-1748044800-1748131199@haltonhour.co.uk
SUMMARY:Animal Teach Zoology Kids Club – Runcorn
DESCRIPTION:Animal Teach is thrilled to announce the return of the monthly Zoology Kids Club for 2025!\nWith exciting new features and themes\, it’s going to be bigger and better than ever. Don’t miss out on this year of zoological adventures! \nWhat to Expect\nEvery month\, Zoologists will enjoy hands-on learning\, practical activities\, skill development\, and up-close encounters with fascinating species like snakes\, lizards\, tortoises\, frogs\, and invertebrates! Each workshop promises unforgettable experiences and opportunities to grow. \nNEW Block-Booking Discount Tickets\nNow available: 1-date tickets for just £13.50 with pay-as-you-go flexibility!\nOR\nSave more when you book 2\, 3\, 4\, 5\, or 6-date tickets. The more dates you book at once\, the bigger the savings. Choose your membership here https://buytickets.at/animalteachltd/store \nMini Zoologist (Ages 4-7)\n10.15am-11.15am\nYoung Zoologist (Ages 8-11)\n11.45am-12.45pm\nJunior Zoologist (Ages 12-15)\n1.15pm-2.15pm \nEach Month Brings a New Theme!\n2025 Themes TBC\nEvery session offers something fresh and exciting. Mark your calendars for these Saturdays: \n\nSaturday 25th January\nSaturday 22nd February\nSaturday 29th March\nSaturday 26th April\nSaturday 24th May\nSaturday 21st June\n\nAll Zoologists Receive \n\nAnimal Teach Kids Club Member Card – For every 4 clubs\, receive a FREE gift!\nAccess to Guest Speakers at certain events\nHands-on\, educational learning\nOpportunities to see and hold animals\n\nAdditional Information:  \n\nWheelchair accessible\nAccess to accessible facilities\, including toilets and parking\nOne parent or guardian must remain onsite with their child/children\nLimited ticket availability—book early to secure your spot!\nRefunds or date transfers are handled on a case-by-case basis only\nTerms & Conditions and Risk Assessment apply\n\nFor any questions\, please email animalteach@outlook.com. \nThank you\,\nNaomi \nHBC Animal Activity Licence Number: F42PNH19CA/1 \n\n\nLocation\nHazlehurst Studios\, 71 High Street\, WA7 1AH
URL:https://haltonhour.co.uk/event/animal-teach-zoology-kids-club-runcorn-8/
LOCATION:Hazlehurst Studios\, Runcorn Old Town\, 73a High Street\, RUNCORN\, WA7 1AH
CATEGORIES:Animals and Pets,Education
ATTACH;FMTTYPE=image/png:https://haltonhour.co.uk/wp-content/uploads/2025/01/Color-logo-with-background-4.png
ORGANIZER;CN="Animal Teach":MAILTO:animalteach@outlook.com
END:VEVENT
BEGIN:VEVENT
DTSTART;TZID=Europe/London:20250517T100000
DTEND;TZID=Europe/London:20250517T150000
DTSTAMP:20260420T042516
CREATED:20250417T185858Z
LAST-MODIFIED:20250417T185858Z
UID:10003795-1747476000-1747494000@haltonhour.co.uk
SUMMARY:WellBeing ToolKit Workshop - Widnes
DESCRIPTION:Looking forward to welcoming you to the first WellBeing ToolKit Workshop where we will explore tools and tips you could include in your very own toolkit. \nYou will get the chance to try a variety of techniques intended to soothe and calm your nervous system and help you come back into the room! \nJoin me and dive into what’s really going on in your nervous system and the best way for you to soothe and resource yourself. \nDon’t miss this opportunity to do this work in person and be able to ask questions as you go helping you create your bespoke toolkit. \nYou will also be able to share what you learn with friends and family. \nEarlyBird tickets available for a limited time of £45 \nRegular tickets will be £55 \nIf you’re feeling called to this workshop and are financially challenged please do get in touch
URL:https://haltonhour.co.uk/event/wellbeing-toolkit-workshop-widnes/
LOCATION:The Studio\, Lacey Street\, Widnes\, Cheshire\, WA8 7SQ\, United Kingdom
CATEGORIES:Health and Wellbeing
ATTACH;FMTTYPE=image/jpeg:https://haltonhour.co.uk/wp-content/uploads/2025/04/wellbeing-toolkit-1.jpg
ORGANIZER;CN="The Wellbeing Lady":MAILTO:angelita@wellbeinglady.com
END:VEVENT
BEGIN:VEVENT
DTSTART;TZID=Europe/London:20250515T093000
DTEND;TZID=Europe/London:20250515T120000
DTSTAMP:20260420T042516
CREATED:20250410T194232Z
LAST-MODIFIED:20250410T194249Z
UID:10003683-1747301400-1747310400@haltonhour.co.uk
SUMMARY:Halton ‘Baby Shower’ Information Event! - Widnes
DESCRIPTION:Halton Family Hub ‘Baby Shower’ Information events are FREE and held monthly across Runcorn and Widnes! \nClick on this link to register for your place at your baby shower event: \nhttps://forms.office.com/r/8E0VqvEKAD \nwww.haltonfamilyhubs.co.uk #Runcorn #widnes! #haltonhour
URL:https://haltonhour.co.uk/event/halton-baby-shower-information-event/
LOCATION:Warrington Road Family Hub\, Naylor Road\, Widnes\, Cheshire\, WA8 0BS\, United Kingdom
CATEGORIES:Fayres and Markets,Health and Wellbeing
ATTACH;FMTTYPE=image/jpeg:https://haltonhour.co.uk/wp-content/uploads/2025/04/IMG_5955.jpeg
END:VEVENT
BEGIN:VEVENT
DTSTART;TZID=Europe/London:20250509T193000
DTEND;TZID=Europe/London:20250509T213000
DTSTAMP:20260420T042516
CREATED:20240905T193320Z
LAST-MODIFIED:20241230T190427Z
UID:10002596-1746819000-1746826200@haltonhour.co.uk
SUMMARY:Women's Supper Club - Widnes
DESCRIPTION:Join Fortuna Female Society for a delicious soup supper and a hearty helping of great female company.
URL:https://haltonhour.co.uk/event/womens-supper-club-widnes/2025-05-09/
LOCATION:St Pauls Church Hall\, Victoria Square\, Widnes\, Cheshire\, WA8 7QU\, United Kingdom
CATEGORIES:Social
ATTACH;FMTTYPE=image/jpeg:https://haltonhour.co.uk/wp-content/uploads/2024/09/FFS-supper-club-St-Pauls-Village-Hall-Widnes.jpg
ORGANIZER;CN="Fortuna Female Society FFS":MAILTO:team@fortunafemale.org
END:VEVENT
BEGIN:VEVENT
DTSTART;TZID=Europe/London:20250507T190000
DTEND;TZID=Europe/London:20250507T223000
DTSTAMP:20260420T042516
CREATED:20250419T081656Z
LAST-MODIFIED:20250419T081656Z
UID:10003796-1746644400-1746657000@haltonhour.co.uk
SUMMARY:Widnes VIPs Quiz Night
DESCRIPTION:On Wednesday 7th May Widnes VIPs will be holding there Annual Quiz at DCBL Stadium Widnes Karalius Suite 7pm start. \nWidnes Coach Allan Coleman is the Quiz Master. It helps raise funds for Widnes VIPs who through the membership scheme raise money for Widnes Vikings to Strengthen and retention of players. \nTickets are on sale at £5 each for more information please email admin@widvesvips.co.uk
URL:https://haltonhour.co.uk/event/widnes-vips-quiz-night/
LOCATION:DCBL Stadium\, Lowerhouse Lane\, Widnes\, Cheshire\, WA8 7DZ\, United Kingdom
CATEGORIES:Charity Fundraiser,Entertainment
ATTACH;FMTTYPE=image/jpeg:https://haltonhour.co.uk/wp-content/uploads/2025/04/Messenger_creation_AD9B8709-37B3-4536-9AF4-605AD502C9CC.jpeg
ORGANIZER;CN="Widnes VIPS":MAILTO:admin@widvesvips.co.uk
END:VEVENT
BEGIN:VEVENT
DTSTART;TZID=Europe/London:20250430T200000
DTEND;TZID=Europe/London:20250430T204500
DTSTAMP:20260420T042516
CREATED:20241214T081517Z
LAST-MODIFIED:20241227T111754Z
UID:10002871-1746043200-1746045900@haltonhour.co.uk
SUMMARY:Wednesday Wind Down
DESCRIPTION:Join me for a relaxing and grounding session designed to calm and soothe your nervous system.  Always important but especially at this time of year.\n\nPlease register for the event and you will receive the Zoom link.\n\nThese sessions incur a small charge – you can pay what you feel. Suggested donation £3-5.\n\n\n\n\n\n\n\n\n\nRegistration link:\nhttps://us02web.zoom.us/…/tZctd-muqz0vGNFz5na…\n\n\n\n\n\n\n\n\n\n\n\n\n\n\n\n\n\n\n\n\n\n\n\n\n\n\n\n\n\nThank you and see you soon xx
URL:https://haltonhour.co.uk/event/wednesday-wind-down/2025-04-30/
LOCATION:online
CATEGORIES:Health and Wellbeing
ATTACH;FMTTYPE=image/png:https://haltonhour.co.uk/wp-content/uploads/2024/12/Wednesday-Wind-down-2023-Facebook-Event-Cover.png
ORGANIZER;CN="The Wellbeing Lady":MAILTO:angelita@wellbeinglady.com
END:VEVENT
BEGIN:VEVENT
DTSTART;VALUE=DATE:20250426
DTEND;VALUE=DATE:20250427
DTSTAMP:20260420T042516
CREATED:20250119T205949Z
LAST-MODIFIED:20250119T205949Z
UID:10002895-1745625600-1745711999@haltonhour.co.uk
SUMMARY:Animal Teach Zoology Kids Club – Runcorn
DESCRIPTION:Animal Teach is thrilled to announce the return of the monthly Zoology Kids Club for 2025!\nWith exciting new features and themes\, it’s going to be bigger and better than ever. Don’t miss out on this year of zoological adventures! \nWhat to Expect\nEvery month\, Zoologists will enjoy hands-on learning\, practical activities\, skill development\, and up-close encounters with fascinating species like snakes\, lizards\, tortoises\, frogs\, and invertebrates! Each workshop promises unforgettable experiences and opportunities to grow. \nNEW Block-Booking Discount Tickets\nNow available: 1-date tickets for just £13.50 with pay-as-you-go flexibility!\nOR\nSave more when you book 2\, 3\, 4\, 5\, or 6-date tickets. The more dates you book at once\, the bigger the savings. Choose your membership here https://buytickets.at/animalteachltd/store \nMini Zoologist (Ages 4-7)\n10.15am-11.15am\nYoung Zoologist (Ages 8-11)\n11.45am-12.45pm\nJunior Zoologist (Ages 12-15)\n1.15pm-2.15pm \nEach Month Brings a New Theme!\n2025 Themes TBC\nEvery session offers something fresh and exciting. Mark your calendars for these Saturdays: \n\nSaturday 25th January\nSaturday 22nd February\nSaturday 29th March\nSaturday 26th April\nSaturday 24th May\nSaturday 21st June\n\nAll Zoologists Receive \n\nAnimal Teach Kids Club Member Card – For every 4 clubs\, receive a FREE gift!\nAccess to Guest Speakers at certain events\nHands-on\, educational learning\nOpportunities to see and hold animals\n\nAdditional Information:  \n\nWheelchair accessible\nAccess to accessible facilities\, including toilets and parking\nOne parent or guardian must remain onsite with their child/children\nLimited ticket availability—book early to secure your spot!\nRefunds or date transfers are handled on a case-by-case basis only\nTerms & Conditions and Risk Assessment apply\n\nFor any questions\, please email animalteach@outlook.com. \nThank you\,\nNaomi \nHBC Animal Activity Licence Number: F42PNH19CA/1 \n\n\nLocation\nHazlehurst Studios\, 71 High Street\, WA7 1AH
URL:https://haltonhour.co.uk/event/animal-teach-zoology-kids-club-runcorn-7/
LOCATION:Hazlehurst Studios\, Runcorn Old Town\, 73a High Street\, RUNCORN\, WA7 1AH
CATEGORIES:Animals and Pets,Education
ATTACH;FMTTYPE=image/png:https://haltonhour.co.uk/wp-content/uploads/2025/01/Color-logo-with-background-3.png
ORGANIZER;CN="Animal Teach":MAILTO:animalteach@outlook.com
END:VEVENT
BEGIN:VEVENT
DTSTART;TZID=Europe/London:20250425T093000
DTEND;TZID=Europe/London:20250425T120000
DTSTAMP:20260420T042516
CREATED:20250329T140233Z
LAST-MODIFIED:20250329T140233Z
UID:10003682-1745573400-1745582400@haltonhour.co.uk
SUMMARY:Free ‘Baby Shower’ NHS Information Event - Runcorn
DESCRIPTION:Halton Family Hubs and Halton NHS 0-19  Service monthly events for anyone expecting a baby or have a baby under 6months. \nhttp://www.haltonfamilyhubs.co.uk \nMeet health professionals to explore pregnancy and labour\, infant feeding\, emotional wellbeing\, health and development and becoming a parent. \nA showcase of what the family hubs offer you and your family. \nPractical demonstrations of safe sleep\, bathing and changing nappies. \nOpportunity for a friendly chat and a cuppa with the Family Hub team and to meet other new parents too!
URL:https://haltonhour.co.uk/event/free-baby-shower-nhs-information-event-runcorn/
LOCATION:Brookvale Family Hub\, Woodhatch Road\, Runcorn\, Cheshire\, WA7 6BJ\, United Kingdom
CATEGORIES:Fayres and Markets,Health and Wellbeing
ATTACH;FMTTYPE=image/jpeg:https://haltonhour.co.uk/wp-content/uploads/2025/03/IMG_5955.jpeg
END:VEVENT
END:VCALENDAR