BEGIN:VCALENDAR
VERSION:2.0
PRODID:-//#HaltonHour - ECPv6.15.20//NONSGML v1.0//EN
CALSCALE:GREGORIAN
METHOD:PUBLISH
X-ORIGINAL-URL:https://haltonhour.co.uk
X-WR-CALDESC:Events for #HaltonHour
REFRESH-INTERVAL;VALUE=DURATION:PT1H
X-Robots-Tag:noindex
X-PUBLISHED-TTL:PT1H
BEGIN:VTIMEZONE
TZID:Europe/London
BEGIN:DAYLIGHT
TZOFFSETFROM:+0000
TZOFFSETTO:+0100
TZNAME:BST
DTSTART:20240331T010000
END:DAYLIGHT
BEGIN:STANDARD
TZOFFSETFROM:+0100
TZOFFSETTO:+0000
TZNAME:GMT
DTSTART:20241027T010000
END:STANDARD
BEGIN:DAYLIGHT
TZOFFSETFROM:+0000
TZOFFSETTO:+0100
TZNAME:BST
DTSTART:20250330T010000
END:DAYLIGHT
BEGIN:STANDARD
TZOFFSETFROM:+0100
TZOFFSETTO:+0000
TZNAME:GMT
DTSTART:20251026T010000
END:STANDARD
BEGIN:DAYLIGHT
TZOFFSETFROM:+0000
TZOFFSETTO:+0100
TZNAME:BST
DTSTART:20260329T010000
END:DAYLIGHT
BEGIN:STANDARD
TZOFFSETFROM:+0100
TZOFFSETTO:+0000
TZNAME:GMT
DTSTART:20261025T010000
END:STANDARD
END:VTIMEZONE
BEGIN:VEVENT
DTSTART;TZID=Europe/London:20251113T103000
DTEND;TZID=Europe/London:20251113T150000
DTSTAMP:20260421T183540
CREATED:20241214T081105Z
LAST-MODIFIED:20241214T081105Z
UID:10002852-1763029800-1763046000@haltonhour.co.uk
SUMMARY:Halton and Warrington Business Fair 2025
DESCRIPTION:Showcasing and supporting Halton and Warrington businesses since 2008! \nLocal businesses\, organisations\, and entrepreneurs are invited to take part in the Halton & Warrington Business Fair\, which returns to the DCBL Stadium for a 17th year on Thursday 13th November 2025 (10.30am-3pm). \nB2B Exhibition | Networking | Workshops | Ask the Expert | Business Information & Advice | Free to visit | Complimentary post event promotion for all visitors | Exhibit from £275+VAT \nAttending the event is completely free of charge and all visitors who come along on the day can take advantage of complimentary post-event promotion of their business register now. \nFor those looking to have a higher profile\, a range of exhibition and sponsorship packages are available from £275+VAT. These provide an excellent platform to showcase your products and services to all the businesses in attendance. Plus\, all exhibitors and sponsors benefit from lots of additional marketing both before and after the event\, such as their own page on our event website\, and social media promotion. \nFind out more about exhibition space and sponsorship opportunities. \nWe hope you’re able to join us!
URL:https://haltonhour.co.uk/event/halton-and-warrington-business-fair-2025/
LOCATION:DCBL Stadium\, Lowerhouse Lane\, Widnes\, Cheshire\, WA8 7DZ\, United Kingdom
CATEGORIES:Business Exhibitions and Fairs
ATTACH;FMTTYPE=image/jpeg:https://haltonhour.co.uk/wp-content/uploads/2024/12/Halton-Biz-Fair-25-image.jpg
ORGANIZER;CN="Liverpool BA":MAILTO:kathy@liverpoolba.com
END:VEVENT
BEGIN:VEVENT
DTSTART;TZID=Europe/London:20250925T103000
DTEND;TZID=Europe/London:20250925T150000
DTSTAMP:20260421T183540
CREATED:20241214T080316Z
LAST-MODIFIED:20241214T080316Z
UID:10002851-1758796200-1758812400@haltonhour.co.uk
SUMMARY:Wirral & Chester Business Fair 2025
DESCRIPTION:Celebrating 20 years of showcasing and supporting Wirral and Chester businesses!\nLiverpool BA are delighted to be inviting local businesses\, organisations\, and entrepreneurs to take part in the 20th Anniversary Wirral & Chester Business Fair on Thursday 25th September 2025 at New Brighton Floral Pavilion (10.30am-3pm). \nFirst held in June 2005 at Pacific Road Arts Centre\, the event has grown to become one of the most popular fixtures on the Wirral and Chester business calendar. \nB2B Exhibition | Networking | Workshops | Ask the Expert | Business Information & Advice | Free to visit | Complimentary post event promotion for all visitors | Exhibit from £275+VAT \nAttending the event is completely free of charge and all visitors who come along on the day can take advantage of complimentary post-event promotion of their business register now. \nFor those looking to have a higher profile\, a range of exhibition and sponsorship packages are available from £275+VAT. These provide an excellent platform to showcase your products and services to all the businesses in attendance. Plus\, all exhibitors and sponsors benefit from lots of additional marketing both before and after the event\, such as their own page on our event website\, and social media promotion. \nFind out more about exhibition space and sponsorship opportunities. \nWe hope you’re able to join us!
URL:https://haltonhour.co.uk/event/wirral-chester-business-fair-2025/
LOCATION:New Brighton Floral Pavilion\, Marine Promenade\, Wirral\, CH45 2JS
CATEGORIES:Business Exhibitions and Fairs
ATTACH;FMTTYPE=image/jpeg:https://haltonhour.co.uk/wp-content/uploads/2024/12/Wirral-Biz-Fair-25-image.jpg
ORGANIZER;CN="Liverpool BA":MAILTO:kathy@liverpoolba.com
END:VEVENT
END:VCALENDAR